BEGIN:VCALENDAR
VERSION:2.0
PRODID:-//Afrozema - ECPv6.11.2.1//NONSGML v1.0//EN
CALSCALE:GREGORIAN
METHOD:PUBLISH
X-WR-CALNAME:Afrozema
X-ORIGINAL-URL:https://afrozema.com
X-WR-CALDESC:Events for Afrozema
REFRESH-INTERVAL;VALUE=DURATION:PT1H
X-Robots-Tag:noindex
X-PUBLISHED-TTL:PT1H
BEGIN:VTIMEZONE
TZID:UTC
BEGIN:STANDARD
TZOFFSETFROM:+0000
TZOFFSETTO:+0000
TZNAME:UTC
DTSTART:20250101T000000
END:STANDARD
END:VTIMEZONE
BEGIN:VEVENT
DTSTART;TZID=UTC:20250530T080000
DTEND;TZID=UTC:20250530T170000
DTSTAMP:20260420T122131
CREATED:20250501T085333Z
LAST-MODIFIED:20250501T085333Z
UID:152-1748592000-1748624400@afrozema.com
SUMMARY:Test Show 1
DESCRIPTION:Broadcasting good vibes 24/7 – welcome to your digital sound escape. Broadcasting good vibes 24/7 – welcome to your digital sound escape. Broadcasting good vibes 24/7 – welcome to your digital sound escape. Broadcasting good vibes 24/7 – welcome to your digital sound escape.
URL:https://afrozema.com/show/test-show-1/
CATEGORIES:Live Shows,Upcoming Shows
ATTACH;FMTTYPE=image/png:https://afrozema.com/wp-content/uploads/2025/05/afrozema2-4.png
END:VEVENT
END:VCALENDAR